BEGIN:VCALENDAR
VERSION:2.0
PRODID:spatie/icalendar-generator
DESCRIPTION:Veranstaltungen von MGV Selzen
X-WR-CALDESC:Veranstaltungen von MGV Selzen
REFRESH-INTERVAL;VALUE=DURATION:PT1440M
X-PUBLISHED-TTL:PT1440M
BEGIN:VTIMEZONE
TZID:Europe/Berlin
BEGIN:DAYLIGHT
DTSTART:20240331T020000Z
TZOFFSETFROM:+0100
TZOFFSETTO:+0200
END:DAYLIGHT
BEGIN:STANDARD
DTSTART:20241027T030000Z
TZOFFSETFROM:+0200
TZOFFSETTO:+0100
END:STANDARD
BEGIN:DAYLIGHT
DTSTART:20250330T020000Z
TZOFFSETFROM:+0100
TZOFFSETTO:+0200
END:DAYLIGHT
END:VTIMEZONE
BEGIN:VTIMEZONE
TZID:UTC
BEGIN:STANDARD
DTSTART:20250724T105811Z
TZOFFSETFROM:+0000
TZOFFSETTO:+0000
END:STANDARD
END:VTIMEZONE
BEGIN:VEVENT
UID:169-55
DTSTAMP:20260420T105811Z
SUMMARY:Gesamtverein - Singen unter dem Weihnachtsbaum
LOCATION:Freier Platz Selzen Kaiserstrasse 13  Selzen  55278
ORGANIZER;CN=freddy:MAILTO:heinz.henss@icloud.com
DTSTART;TZID=Europe/Berlin:20241221T173000
DTEND;TZID=Europe/Berlin:20241221T183000
X-ALT-DESC;FMTTYPE=TEXT/HTML:
CATEGORIES:Veranstaltung
URL;VALUE=URI:https://www.mgvselzen.de/mc-events/gesamtverein-singen-unter-
 dem-weihnachtsbaum-2/
METHOD:PUBLISH
END:VEVENT
END:VCALENDAR