BEGIN:VCALENDAR
VERSION:2.0
PRODID:spatie/icalendar-generator
DESCRIPTION:Veranstaltungen von MGV Selzen
X-WR-CALDESC:Veranstaltungen von MGV Selzen
REFRESH-INTERVAL;VALUE=DURATION:PT1440M
X-PUBLISHED-TTL:PT1440M
BEGIN:VTIMEZONE
TZID:Europe/Berlin
BEGIN:STANDARD
DTSTART:20231029T030000Z
TZOFFSETFROM:+0200
TZOFFSETTO:+0100
END:STANDARD
BEGIN:DAYLIGHT
DTSTART:20240331T020000Z
TZOFFSETFROM:+0100
TZOFFSETTO:+0200
END:DAYLIGHT
BEGIN:STANDARD
DTSTART:20241027T030000Z
TZOFFSETFROM:+0200
TZOFFSETTO:+0100
END:STANDARD
END:VTIMEZONE
BEGIN:VTIMEZONE
TZID:UTC
BEGIN:STANDARD
DTSTART:20250724T135548Z
TZOFFSETFROM:+0000
TZOFFSETTO:+0000
END:STANDARD
END:VTIMEZONE
BEGIN:VEVENT
UID:164-51
DTSTAMP:20260420T135548Z
SUMMARY:Gesamtverein - Chorreise nach Tschechien
LOCATION:
ORGANIZER;CN=freddy:MAILTO:heinz.henss@icloud.com
DTSTART;TZID=Europe/Berlin;VALUE=DATE:20240530
DTEND;TZID=Europe/Berlin;VALUE=DATE:20240603
X-ALT-DESC;FMTTYPE=TEXT/HTML:
CATEGORIES:Veranstaltung
URL;VALUE=URI:https://www.mgvselzen.de/mc-events/gesamtverein-chorreise-nac
 h-tschechien/
METHOD:PUBLISH
END:VEVENT
END:VCALENDAR