BEGIN:VCALENDAR
VERSION:2.0
PRODID:spatie/icalendar-generator
DESCRIPTION:Veranstaltungen von MGV Selzen
X-WR-CALDESC:Veranstaltungen von MGV Selzen
REFRESH-INTERVAL;VALUE=DURATION:PT1440M
X-PUBLISHED-TTL:PT1440M
BEGIN:VTIMEZONE
TZID:Europe/Berlin
BEGIN:DAYLIGHT
DTSTART:20240331T020000Z
TZOFFSETFROM:+0100
TZOFFSETTO:+0200
END:DAYLIGHT
BEGIN:STANDARD
DTSTART:20241027T030000Z
TZOFFSETFROM:+0200
TZOFFSETTO:+0100
END:STANDARD
END:VTIMEZONE
BEGIN:VTIMEZONE
TZID:UTC
BEGIN:STANDARD
DTSTART:20250726T102725Z
TZOFFSETFROM:+0000
TZOFFSETTO:+0000
END:STANDARD
END:VTIMEZONE
BEGIN:VEVENT
UID:170-56
DTSTAMP:20260422T102725Z
SUMMARY:Gesamtverein - Leberknödelessen \"Selzer Kerb\"
LOCATION:Weingut Klaus-Otmar Binzel Kirchstrasse 11  Selzen  55278
ORGANIZER;CN=freddy:MAILTO:heinz.henss@icloud.com
DTSTART;TZID=Europe/Berlin:20240910T170000
DTEND;TZID=Europe/Berlin:20240910T193000
X-ALT-DESC;FMTTYPE=TEXT/HTML:
CATEGORIES:Veranstaltung
URL;VALUE=URI:https://www.mgvselzen.de/mc-events/gesamtverein-leberknoedele
 ssen-selzer-kerb-2/
METHOD:PUBLISH
END:VEVENT
END:VCALENDAR