BEGIN:VCALENDAR
VERSION:2.0
PRODID:spatie/icalendar-generator
DESCRIPTION:Veranstaltungen von MGV Selzen
X-WR-CALDESC:Veranstaltungen von MGV Selzen
REFRESH-INTERVAL;VALUE=DURATION:PT1440M
X-PUBLISHED-TTL:PT1440M
BEGIN:VTIMEZONE
TZID:Europe/Berlin
BEGIN:DAYLIGHT
DTSTART:20240331T020000Z
TZOFFSETFROM:+0100
TZOFFSETTO:+0200
END:DAYLIGHT
BEGIN:STANDARD
DTSTART:20241027T030000Z
TZOFFSETFROM:+0200
TZOFFSETTO:+0100
END:STANDARD
END:VTIMEZONE
BEGIN:VTIMEZONE
TZID:UTC
BEGIN:STANDARD
DTSTART:20250726T115950Z
TZOFFSETFROM:+0000
TZOFFSETTO:+0000
END:STANDARD
END:VTIMEZONE
BEGIN:VEVENT
UID:172-57
DTSTAMP:20260422T115950Z
SUMMARY:Gospelchor - Chorprobe
LOCATION:Vereinsheim \\\"Zum Sälche\\\" Tränkgasse 3  Selzen  55278
ORGANIZER;CN=freddy:MAILTO:heinz.henss@icloud.com
RRULE:FREQ=WEEKLY;UNTIL=20240908T000000Z
DTSTART;TZID=Europe/Berlin:20240829T193000
DTEND;TZID=Europe/Berlin:20240829T210000
X-ALT-DESC;FMTTYPE=TEXT/HTML:
CATEGORIES:Probe
URL;VALUE=URI:https://www.mgvselzen.de/mc-events/gospelchor-chorprobe-11/?m
 c_id=172
METHOD:PUBLISH
END:VEVENT
END:VCALENDAR